Package: AUCell Version: 1.26.0 Command: /home/biocbuild/R/R-beta-2024-04-15_r86425/bin/R CMD check --install=check:AUCell.install-out.txt --library=/home/biocbuild/R/R-beta-2024-04-15_r86425/site-library --no-vignettes --timings AUCell_1.26.0.tar.gz StartedAt: 2024-05-09 04:51:43 -0000 (Thu, 09 May 2024) EndedAt: 2024-05-09 04:56:27 -0000 (Thu, 09 May 2024) EllapsedTime: 283.4 seconds RetCode: 0 Status: OK CheckDir: AUCell.Rcheck Warnings: 0