Package: AUCell Version: 1.26.0 Command: /Library/Frameworks/R.framework/Resources/bin/R CMD build --keep-empty-dirs --no-resave-data AUCell StartedAt: 2024-06-09 18:12:59 -0400 (Sun, 09 Jun 2024) EndedAt: 2024-06-09 18:15:32 -0400 (Sun, 09 Jun 2024) EllapsedTime: 152.5 seconds RetCode: 0 Status: OK PackageFile: AUCell_1.26.0.tar.gz PackageFileSize: 2.414 MiB