Package: AUCell Version: 1.26.0 Command: rm -rf AUCell.buildbin-libdir && mkdir AUCell.buildbin-libdir && /Users/biocbuild/BBS/utils/build-universal.sh AUCell_1.26.0.tar.gz /Library/Frameworks/R.framework/Resources/bin/R AUCell.buildbin-libdir StartedAt: 2024-06-11 10:10:56 -0400 (Tue, 11 Jun 2024) EndedAt: 2024-06-11 10:11:56 -0400 (Tue, 11 Jun 2024) EllapsedTime: 59.7 seconds RetCode: 0 Status: OK PackageFile: AUCell_1.26.0.tgz PackageFileSize: 2.809 MiB