Package: AUCell Version: 1.26.0 Command: /Library/Frameworks/R.framework/Resources/bin/R CMD check --install=check:AUCell.install-out.txt --library=/Library/Frameworks/R.framework/Resources/library --no-vignettes --timings AUCell_1.26.0.tar.gz StartedAt: 2024-10-17 12:50:11 -0400 (Thu, 17 Oct 2024) EndedAt: 2024-10-17 12:54:45 -0400 (Thu, 17 Oct 2024) EllapsedTime: 273.9 seconds RetCode: 0 Status: OK CheckDir: AUCell.Rcheck Warnings: 0