Package: AUCell Version: 1.26.0 Command: /Library/Frameworks/R.framework/Resources/bin/R CMD build --keep-empty-dirs --no-resave-data AUCell StartedAt: 2024-10-16 19:38:46 -0400 (Wed, 16 Oct 2024) EndedAt: 2024-10-16 19:41:38 -0400 (Wed, 16 Oct 2024) EllapsedTime: 172.2 seconds RetCode: 0 Status: OK PackageFile: AUCell_1.26.0.tar.gz PackageFileSize: 2.414 MiB