Package: ATACseqTFEA Version: 1.6.0 Command: E:\biocbuild\bbs-3.19-bioc\R\bin\R.exe CMD INSTALL ATACseqTFEA StartedAt: 2024-10-16 16:34:38 -0400 (Wed, 16 Oct 2024) EndedAt: 2024-10-16 16:35:47 -0400 (Wed, 16 Oct 2024) EllapsedTime: 68.6 seconds RetCode: 0 Status: OK