Package: ATACseqTFEA Version: 1.6.0 Command: rm -rf ATACseqTFEA.buildbin-libdir && mkdir ATACseqTFEA.buildbin-libdir && F:\biocbuild\bbs-3.19-bioc\R\bin\R.exe CMD INSTALL --build --library=ATACseqTFEA.buildbin-libdir ATACseqTFEA_1.6.0.tar.gz StartedAt: 2024-06-27 07:50:38 -0400 (Thu, 27 Jun 2024) EndedAt: 2024-06-27 07:51:43 -0400 (Thu, 27 Jun 2024) EllapsedTime: 65.0 seconds RetCode: 0 Status: OK PackageFile: ATACseqTFEA_1.6.0.zip PackageFileSize: 4.787 MiB