Package: ATACseqTFEA Version: 1.6.0 Command: /home/biocbuild/bbs-3.19-bioc/R/bin/R CMD INSTALL ATACseqTFEA StartedAt: 2024-10-16 16:10:16 -0400 (Wed, 16 Oct 2024) EndedAt: 2024-10-16 16:10:59 -0400 (Wed, 16 Oct 2024) EllapsedTime: 43.2 seconds RetCode: 0 Status: OK