Package: ATACseqTFEA Version: 1.6.0 Command: /home/biocbuild/R/R-beta-2024-04-15_r86425/bin/R CMD check --install=check:ATACseqTFEA.install-out.txt --library=/home/biocbuild/R/R-beta-2024-04-15_r86425/site-library --no-vignettes --timings ATACseqTFEA_1.6.0.tar.gz StartedAt: 2024-05-09 04:51:00 -0000 (Thu, 09 May 2024) EndedAt: 2024-05-09 04:59:47 -0000 (Thu, 09 May 2024) EllapsedTime: 526.8 seconds RetCode: 0 Status: OK CheckDir: ATACseqTFEA.Rcheck Warnings: 0