Package: ATACseqQC Version: 1.28.0 Command: /home/biocbuild/bbs-3.19-bioc/R/bin/R CMD INSTALL ATACseqQC StartedAt: 2024-10-16 16:34:25 -0400 (Wed, 16 Oct 2024) EndedAt: 2024-10-16 16:35:21 -0400 (Wed, 16 Oct 2024) EllapsedTime: 56.4 seconds RetCode: 0 Status: OK