Package: ATACseqQC Version: 1.28.0 Command: /home/biocbuild/bbs-3.19-bioc/R/bin/R CMD check --install=check:ATACseqQC.install-out.txt --library=/home/biocbuild/bbs-3.19-bioc/R/site-library --timings ATACseqQC_1.28.0.tar.gz StartedAt: 2024-10-16 21:42:07 -0400 (Wed, 16 Oct 2024) EndedAt: 2024-10-16 21:55:23 -0400 (Wed, 16 Oct 2024) EllapsedTime: 795.5 seconds RetCode: 0 Status: OK CheckDir: ATACseqQC.Rcheck Warnings: 0