Package: ATACCoGAPS Version: 1.6.0 Command: /Library/Frameworks/R.framework/Resources/bin/R CMD INSTALL ATACCoGAPS StartedAt: 2024-06-09 15:36:11 -0400 (Sun, 09 Jun 2024) EndedAt: 2024-06-09 15:37:20 -0400 (Sun, 09 Jun 2024) EllapsedTime: 68.9 seconds RetCode: 0 Status: OK