Package: ATACCoGAPS Version: 1.6.0 Command: /Library/Frameworks/R.framework/Resources/bin/R CMD build --keep-empty-dirs --no-resave-data ATACCoGAPS StartedAt: 2024-06-09 15:51:53 -0400 (Sun, 09 Jun 2024) EndedAt: 2024-06-09 15:54:56 -0400 (Sun, 09 Jun 2024) EllapsedTime: 182.6 seconds RetCode: 0 Status: OK PackageFile: ATACCoGAPS_1.6.0.tar.gz PackageFileSize: 2.87 MiB