Package: ATACCoGAPS Version: 1.6.0 Command: rm -rf ATACCoGAPS.buildbin-libdir && mkdir ATACCoGAPS.buildbin-libdir && /Users/biocbuild/BBS/utils/build-universal.sh ATACCoGAPS_1.6.0.tar.gz /Library/Frameworks/R.framework/Resources/bin/R ATACCoGAPS.buildbin-libdir StartedAt: 2024-06-10 00:06:54 -0400 (Mon, 10 Jun 2024) EndedAt: 2024-06-10 00:08:06 -0400 (Mon, 10 Jun 2024) EllapsedTime: 71.2 seconds RetCode: 0 Status: OK PackageFile: ATACCoGAPS_1.6.0.tgz PackageFileSize: 2.801 MiB