Package: ATACCoGAPS Version: 1.6.0 Command: rm -rf ATACCoGAPS.buildbin-libdir && mkdir ATACCoGAPS.buildbin-libdir && /Users/biocbuild/BBS/utils/build-universal.sh ATACCoGAPS_1.6.0.tar.gz /Library/Frameworks/R.framework/Resources/bin/R ATACCoGAPS.buildbin-libdir StartedAt: 2024-10-18 17:19:44 -0400 (Fri, 18 Oct 2024) EndedAt: 2024-10-18 17:21:03 -0400 (Fri, 18 Oct 2024) EllapsedTime: 79.1 seconds RetCode: 0 Status: OK PackageFile: ATACCoGAPS_1.6.0.tgz PackageFileSize: 2.8 MiB