Package: ASpli Version: 2.14.0 Command: /home/biocbuild/bbs-3.19-bioc/R/bin/R CMD build --keep-empty-dirs --no-resave-data ASpli StartedAt: 2024-10-16 16:57:22 -0400 (Wed, 16 Oct 2024) EndedAt: 2024-10-16 16:59:40 -0400 (Wed, 16 Oct 2024) EllapsedTime: 138.2 seconds RetCode: 0 Status: OK PackageFile: ASpli_2.14.0.tar.gz PackageFileSize: 4.778 MiB