Package: ASpli Version: 2.14.0 Command: /Library/Frameworks/R.framework/Resources/bin/R CMD INSTALL ASpli StartedAt: 2024-10-16 16:07:33 -0400 (Wed, 16 Oct 2024) EndedAt: 2024-10-16 16:09:58 -0400 (Wed, 16 Oct 2024) EllapsedTime: 145.2 seconds RetCode: 0 Status: OK