Package: ASpli Version: 2.14.0 Command: /home/biocbuild/R/R-beta-2024-04-15_r86425/bin/R CMD build --keep-empty-dirs --no-resave-data ASpli StartedAt: 2024-05-08 22:22:07 -0000 (Wed, 08 May 2024) EndedAt: 2024-05-08 22:25:19 -0000 (Wed, 08 May 2024) EllapsedTime: 192.2 seconds RetCode: 0 Status: OK PackageFile: ASpli_2.14.0.tar.gz PackageFileSize: 4.768 MiB