Package: ASpli Version: 2.14.0 Command: /Library/Frameworks/R.framework/Resources/bin/R CMD INSTALL ASpli StartedAt: 2024-10-16 17:25:26 -0400 (Wed, 16 Oct 2024) EndedAt: 2024-10-16 17:26:38 -0400 (Wed, 16 Oct 2024) EllapsedTime: 71.6 seconds RetCode: 0 Status: OK