Package: ASpli Version: 2.14.0 Command: /Library/Frameworks/R.framework/Resources/bin/R CMD build --keep-empty-dirs --no-resave-data ASpli StartedAt: 2024-10-16 19:30:18 -0400 (Wed, 16 Oct 2024) EndedAt: 2024-10-16 19:33:30 -0400 (Wed, 16 Oct 2024) EllapsedTime: 192.8 seconds RetCode: 0 Status: OK PackageFile: ASpli_2.14.0.tar.gz PackageFileSize: 4.778 MiB