Package: ASpli Version: 2.14.0 Command: rm -rf ASpli.buildbin-libdir && mkdir ASpli.buildbin-libdir && /Users/biocbuild/BBS/utils/build-universal.sh ASpli_2.14.0.tar.gz /Library/Frameworks/R.framework/Resources/bin/R ASpli.buildbin-libdir StartedAt: 2024-10-18 17:19:18 -0400 (Fri, 18 Oct 2024) EndedAt: 2024-10-18 17:20:46 -0400 (Fri, 18 Oct 2024) EllapsedTime: 87.7 seconds RetCode: 0 Status: OK PackageFile: ASpli_2.14.0.tgz PackageFileSize: 3.2 MiB