Package: ASURAT Version: 1.8.0 Command: /home/biocbuild/bbs-3.19-bioc/R/bin/R CMD build --keep-empty-dirs --no-resave-data ASURAT StartedAt: 2024-10-16 16:57:36 -0400 (Wed, 16 Oct 2024) EndedAt: 2024-10-16 17:37:37 -0400 (Wed, 16 Oct 2024) EllapsedTime: 2401.0 seconds RetCode: None Status: TIMEOUT PackageFile: None PackageFileSize: NA