Package: ASURAT Version: 1.8.0 Command: /Library/Frameworks/R.framework/Resources/bin/R CMD INSTALL ASURAT StartedAt: 2024-10-16 17:07:40 -0400 (Wed, 16 Oct 2024) EndedAt: 2024-10-16 17:08:18 -0400 (Wed, 16 Oct 2024) EllapsedTime: 38.3 seconds RetCode: 0 Status: OK