Package: ASURAT Version: 1.8.0 Command: rm -rf ASURAT.buildbin-libdir && mkdir ASURAT.buildbin-libdir && /Users/biocbuild/BBS/utils/build-universal.sh ASURAT_1.8.0.tar.gz /Library/Frameworks/R.framework/Resources/bin/R ASURAT.buildbin-libdir StartedAt: 2024-10-18 17:19:43 -0400 (Fri, 18 Oct 2024) EndedAt: 2024-10-18 17:20:33 -0400 (Fri, 18 Oct 2024) EllapsedTime: 50.1 seconds RetCode: 0 Status: OK PackageFile: ASURAT_1.8.0.tgz PackageFileSize: 3.602 MiB