Package: ASSIGN Version: 1.40.0 Command: chmod a+r ASSIGN -R && E:\biocbuild\bbs-3.19-bioc\R\bin\R.exe CMD build --keep-empty-dirs --no-resave-data ASSIGN StartedAt: 2024-10-16 17:36:12 -0400 (Wed, 16 Oct 2024) EndedAt: 2024-10-16 17:36:28 -0400 (Wed, 16 Oct 2024) EllapsedTime: 16.2 seconds RetCode: 0 Status: OK PackageFile: ASSIGN_1.40.0.tar.gz PackageFileSize: 1.621 MiB