Package: ASSIGN Version: 1.40.0 Command: chmod a+r ASSIGN -R && F:\biocbuild\bbs-3.19-bioc\R\bin\R.exe CMD build --keep-empty-dirs --no-resave-data ASSIGN StartedAt: 2024-06-26 17:08:31 -0400 (Wed, 26 Jun 2024) EndedAt: 2024-06-26 17:08:43 -0400 (Wed, 26 Jun 2024) EllapsedTime: 12.1 seconds RetCode: 0 Status: OK PackageFile: ASSIGN_1.40.0.tar.gz PackageFileSize: 1.621 MiB