Package: ASSIGN Version: 1.40.0 Command: rm -rf ASSIGN.buildbin-libdir && mkdir ASSIGN.buildbin-libdir && /Users/biocbuild/BBS/utils/build-universal.sh ASSIGN_1.40.0.tar.gz /Library/Frameworks/R.framework/Resources/bin/R ASSIGN.buildbin-libdir StartedAt: 2024-10-17 15:38:51 -0400 (Thu, 17 Oct 2024) EndedAt: 2024-10-17 15:38:59 -0400 (Thu, 17 Oct 2024) EllapsedTime: 8.8 seconds RetCode: 0 Status: OK PackageFile: ASSIGN_1.40.0.tgz PackageFileSize: 1.674 MiB