Package: ASSIGN Version: 1.40.0 Command: /Library/Frameworks/R.framework/Resources/bin/R CMD check --install=check:ASSIGN.install-out.txt --library=/Library/Frameworks/R.framework/Resources/library --no-vignettes --timings ASSIGN_1.40.0.tar.gz StartedAt: 2024-06-09 18:47:01 -0400 (Sun, 09 Jun 2024) EndedAt: 2024-06-09 18:47:52 -0400 (Sun, 09 Jun 2024) EllapsedTime: 50.6 seconds RetCode: 0 Status: OK CheckDir: ASSIGN.Rcheck Warnings: 0