Package: ASSIGN Version: 1.40.0 Command: /Library/Frameworks/R.framework/Resources/bin/R CMD INSTALL ASSIGN StartedAt: 2024-06-09 17:13:15 -0400 (Sun, 09 Jun 2024) EndedAt: 2024-06-09 17:13:21 -0400 (Sun, 09 Jun 2024) EllapsedTime: 6.1 seconds RetCode: 0 Status: OK