Package: ASSIGN Version: 1.40.0 Command: rm -rf ASSIGN.buildbin-libdir && mkdir ASSIGN.buildbin-libdir && /Users/biocbuild/BBS/utils/build-universal.sh ASSIGN_1.40.0.tar.gz /Library/Frameworks/R.framework/Resources/bin/R ASSIGN.buildbin-libdir StartedAt: 2024-06-11 10:09:53 -0400 (Tue, 11 Jun 2024) EndedAt: 2024-06-11 10:10:01 -0400 (Tue, 11 Jun 2024) EllapsedTime: 8.7 seconds RetCode: 0 Status: OK PackageFile: ASSIGN_1.40.0.tgz PackageFileSize: 1.673 MiB