Package: ASSET Version: 2.22.0 Command: rm -rf ASSET.buildbin-libdir && mkdir ASSET.buildbin-libdir && E:\biocbuild\bbs-3.19-bioc\R\bin\R.exe CMD INSTALL --build --library=ASSET.buildbin-libdir ASSET_2.22.0.tar.gz StartedAt: 2024-10-17 07:20:57 -0400 (Thu, 17 Oct 2024) EndedAt: 2024-10-17 07:21:12 -0400 (Thu, 17 Oct 2024) EllapsedTime: 15.5 seconds RetCode: 0 Status: OK PackageFile: ASSET_2.22.0.zip PackageFileSize: 478.6 KiB