Package: ASSET Version: 2.22.0 Command: chmod a+r ASSET -R && F:\biocbuild\bbs-3.19-bioc\R\bin\R.exe CMD build --keep-empty-dirs --no-resave-data ASSET StartedAt: 2024-06-26 17:08:21 -0400 (Wed, 26 Jun 2024) EndedAt: 2024-06-26 17:08:39 -0400 (Wed, 26 Jun 2024) EllapsedTime: 18.1 seconds RetCode: 0 Status: OK PackageFile: ASSET_2.22.0.tar.gz PackageFileSize: 321.3 KiB