Package: ASSET Version: 2.22.0 Command: /home/biocbuild/R/R-beta-2024-04-15_r86425/bin/R CMD build --keep-empty-dirs --no-resave-data ASSET StartedAt: 2024-05-08 22:22:17 -0000 (Wed, 08 May 2024) EndedAt: 2024-05-08 22:22:35 -0000 (Wed, 08 May 2024) EllapsedTime: 18.0 seconds RetCode: 0 Status: OK PackageFile: ASSET_2.22.0.tar.gz PackageFileSize: 317.4 KiB