Package: ASSET Version: 2.22.0 Command: rm -rf ASSET.buildbin-libdir && mkdir ASSET.buildbin-libdir && /Users/biocbuild/BBS/utils/build-universal.sh ASSET_2.22.0.tar.gz /Library/Frameworks/R.framework/Resources/bin/R ASSET.buildbin-libdir StartedAt: 2024-06-11 10:09:44 -0400 (Tue, 11 Jun 2024) EndedAt: 2024-06-11 10:09:59 -0400 (Tue, 11 Jun 2024) EllapsedTime: 15.6 seconds RetCode: 0 Status: OK PackageFile: ASSET_2.22.0.tgz PackageFileSize: 473.7 KiB