Package: ASSET Version: 2.22.0 Command: /Library/Frameworks/R.framework/Resources/bin/R CMD check --install=check:ASSET.install-out.txt --library=/Library/Frameworks/R.framework/Resources/library --no-vignettes --timings ASSET_2.22.0.tar.gz StartedAt: 2024-10-17 12:33:59 -0400 (Thu, 17 Oct 2024) EndedAt: 2024-10-17 12:36:10 -0400 (Thu, 17 Oct 2024) EllapsedTime: 130.8 seconds RetCode: 0 Status: OK CheckDir: ASSET.Rcheck Warnings: 0