Package: ASSET Version: 2.22.0 Command: rm -rf ASSET.buildbin-libdir && mkdir ASSET.buildbin-libdir && /Users/biocbuild/BBS/utils/build-universal.sh ASSET_2.22.0.tar.gz /Library/Frameworks/R.framework/Resources/bin/R ASSET.buildbin-libdir StartedAt: 2024-10-18 17:19:24 -0400 (Fri, 18 Oct 2024) EndedAt: 2024-10-18 17:19:37 -0400 (Fri, 18 Oct 2024) EllapsedTime: 13.8 seconds RetCode: 0 Status: OK PackageFile: ASSET_2.22.0.tgz PackageFileSize: 474.3 KiB