Package: ASICS Version: 2.20.1 Command: E:\biocbuild\bbs-3.19-bioc\R\bin\R.exe CMD check --no-multiarch --install=check:ASICS.install-out.txt --library=E:\biocbuild\bbs-3.19-bioc\R\library --no-vignettes --timings ASICS_2.20.1.tar.gz StartedAt: 2024-10-16 22:53:49 -0400 (Wed, 16 Oct 2024) EndedAt: 2024-10-16 23:09:54 -0400 (Wed, 16 Oct 2024) EllapsedTime: 965.1 seconds RetCode: 0 Status: WARNINGS CheckDir: ASICS.Rcheck Warnings: 1