Package: ASICS Version: 2.20.1 Command: /Library/Frameworks/R.framework/Resources/bin/R CMD INSTALL ASICS StartedAt: 2024-10-16 16:37:31 -0400 (Wed, 16 Oct 2024) EndedAt: 2024-10-16 16:38:49 -0400 (Wed, 16 Oct 2024) EllapsedTime: 78.1 seconds RetCode: 0 Status: OK