Package: ASICS Version: 2.20.1 Command: /Library/Frameworks/R.framework/Resources/bin/R CMD build --keep-empty-dirs --no-resave-data ASICS StartedAt: 2024-10-16 17:05:47 -0400 (Wed, 16 Oct 2024) EndedAt: 2024-10-16 17:12:53 -0400 (Wed, 16 Oct 2024) EllapsedTime: 426.9 seconds RetCode: 0 Status: OK PackageFile: ASICS_2.20.1.tar.gz PackageFileSize: 3.743 MiB