Package: ASICS Version: 2.20.1 Command: rm -rf ASICS.buildbin-libdir && mkdir ASICS.buildbin-libdir && /Users/biocbuild/BBS/utils/build-universal.sh ASICS_2.20.1.tar.gz /Library/Frameworks/R.framework/Resources/bin/R ASICS.buildbin-libdir StartedAt: 2024-10-17 15:38:40 -0400 (Thu, 17 Oct 2024) EndedAt: 2024-10-17 15:40:02 -0400 (Thu, 17 Oct 2024) EllapsedTime: 81.7 seconds RetCode: 0 Status: OK PackageFile: ASICS_2.20.1.tgz PackageFileSize: 4.33 MiB