Package: ASICS Version: 2.20.1 Command: /Library/Frameworks/R.framework/Resources/bin/R CMD check --install=check:ASICS.install-out.txt --library=/Library/Frameworks/R.framework/Resources/library --no-vignettes --timings ASICS_2.20.1.tar.gz StartedAt: 2024-10-17 12:33:27 -0400 (Thu, 17 Oct 2024) EndedAt: 2024-10-17 12:50:55 -0400 (Thu, 17 Oct 2024) EllapsedTime: 1047.8 seconds RetCode: 0 Status: WARNINGS CheckDir: ASICS.Rcheck Warnings: 1