Package: ASGSCA Version: 1.38.0 Command: /home/biocbuild/bbs-3.19-bioc/R/bin/R CMD build --keep-empty-dirs --no-resave-data ASGSCA StartedAt: 2024-10-16 16:57:20 -0400 (Wed, 16 Oct 2024) EndedAt: 2024-10-16 16:59:48 -0400 (Wed, 16 Oct 2024) EllapsedTime: 148.2 seconds RetCode: 0 Status: OK PackageFile: ASGSCA_1.38.0.tar.gz PackageFileSize: 1.18 MiB