Package: ASGSCA Version: 1.38.0 Command: /home/biocbuild/R/R-beta-2024-04-15_r86425/bin/R CMD check --install=check:ASGSCA.install-out.txt --library=/home/biocbuild/R/R-beta-2024-04-15_r86425/site-library --no-vignettes --timings ASGSCA_1.38.0.tar.gz StartedAt: 2024-05-09 04:49:01 -0000 (Thu, 09 May 2024) EndedAt: 2024-05-09 04:53:29 -0000 (Thu, 09 May 2024) EllapsedTime: 268.4 seconds RetCode: 0 Status: OK CheckDir: ASGSCA.Rcheck Warnings: 0