Package: ASEB Version: 1.48.0 Command: /home/biocbuild/bbs-3.19-bioc/R/bin/R CMD check --install=check:ASEB.install-out.txt --library=/home/biocbuild/bbs-3.19-bioc/R/site-library --timings ASEB_1.48.0.tar.gz StartedAt: 2024-10-16 21:40:54 -0400 (Wed, 16 Oct 2024) EndedAt: 2024-10-16 21:41:19 -0400 (Wed, 16 Oct 2024) EllapsedTime: 25.1 seconds RetCode: 0 Status: WARNINGS CheckDir: ASEB.Rcheck Warnings: 1