Package: ASEB Version: 1.48.0 Command: rm -rf ASEB.buildbin-libdir && mkdir ASEB.buildbin-libdir && /Users/biocbuild/BBS/utils/build-universal.sh ASEB_1.48.0.tar.gz /Library/Frameworks/R.framework/Resources/bin/R ASEB.buildbin-libdir StartedAt: 2024-06-11 10:09:18 -0400 (Tue, 11 Jun 2024) EndedAt: 2024-06-11 10:09:35 -0400 (Tue, 11 Jun 2024) EllapsedTime: 16.4 seconds RetCode: 0 Status: OK PackageFile: ASEB_1.48.0.tgz PackageFileSize: 777.2 KiB