Package: ASEB Version: 1.48.0 Command: /Library/Frameworks/R.framework/Resources/bin/R CMD build --keep-empty-dirs --no-resave-data ASEB StartedAt: 2024-10-16 19:29:56 -0400 (Wed, 16 Oct 2024) EndedAt: 2024-10-16 19:30:18 -0400 (Wed, 16 Oct 2024) EllapsedTime: 21.7 seconds RetCode: 0 Status: OK PackageFile: ASEB_1.48.0.tar.gz PackageFileSize: 602.6 KiB