Package: ASAFE Version: 1.30.0 Command: E:\biocbuild\bbs-3.19-bioc\R\bin\R.exe CMD check --no-multiarch --install=check:ASAFE.install-out.txt --library=E:\biocbuild\bbs-3.19-bioc\R\library --no-vignettes --timings ASAFE_1.30.0.tar.gz StartedAt: 2024-10-16 22:53:17 -0400 (Wed, 16 Oct 2024) EndedAt: 2024-10-16 22:53:51 -0400 (Wed, 16 Oct 2024) EllapsedTime: 34.2 seconds RetCode: 0 Status: OK CheckDir: ASAFE.Rcheck Warnings: 0