Package: ASAFE Version: 1.30.0 Command: chmod a+r ASAFE -R && F:\biocbuild\bbs-3.19-bioc\R\bin\R.exe CMD build --keep-empty-dirs --no-resave-data ASAFE StartedAt: 2024-06-26 17:07:38 -0400 (Wed, 26 Jun 2024) EndedAt: 2024-06-26 17:07:51 -0400 (Wed, 26 Jun 2024) EllapsedTime: 13.0 seconds RetCode: 0 Status: OK PackageFile: ASAFE_1.30.0.tar.gz PackageFileSize: 427.5 KiB