Package: ASAFE Version: 1.30.0 Command: /Library/Frameworks/R.framework/Resources/bin/R CMD check --install=check:ASAFE.install-out.txt --library=/Library/Frameworks/R.framework/Resources/library --no-vignettes --timings ASAFE_1.30.0.tar.gz StartedAt: 2024-10-17 01:08:32 -0400 (Thu, 17 Oct 2024) EndedAt: 2024-10-17 01:09:17 -0400 (Thu, 17 Oct 2024) EllapsedTime: 45.3 seconds RetCode: 0 Status: OK CheckDir: ASAFE.Rcheck Warnings: 0