Package: ASAFE Version: 1.30.0 Command: rm -rf ASAFE.buildbin-libdir && mkdir ASAFE.buildbin-libdir && /Users/biocbuild/BBS/utils/build-universal.sh ASAFE_1.30.0.tar.gz /Library/Frameworks/R.framework/Resources/bin/R ASAFE.buildbin-libdir StartedAt: 2024-06-10 00:06:49 -0400 (Mon, 10 Jun 2024) EndedAt: 2024-06-10 00:06:53 -0400 (Mon, 10 Jun 2024) EllapsedTime: 4.6 seconds RetCode: 0 Status: OK PackageFile: ASAFE_1.30.0.tgz PackageFileSize: 619 KiB